Package: GenomeInfoDb Version: 1.40.1 Command: /Library/Frameworks/R.framework/Resources/bin/R CMD check --install=check:GenomeInfoDb.install-out.txt --library=/Library/Frameworks/R.framework/Resources/library --no-vignettes --timings GenomeInfoDb_1.40.1.tar.gz StartedAt: 2024-10-17 05:49:17 -0400 (Thu, 17 Oct 2024) EndedAt: 2024-10-17 06:08:41 -0400 (Thu, 17 Oct 2024) EllapsedTime: 1163.3 seconds RetCode: 1 Status: ERROR CheckDir: GenomeInfoDb.Rcheck Warnings: NA