Package: GenomeInfoDb Version: 1.40.1 Command: /Library/Frameworks/R.framework/Resources/bin/R CMD build --keep-empty-dirs --no-resave-data GenomeInfoDb StartedAt: 2024-10-16 19:29:29 -0400 (Wed, 16 Oct 2024) EndedAt: 2024-10-16 19:30:50 -0400 (Wed, 16 Oct 2024) EllapsedTime: 80.4 seconds RetCode: 0 Status: OK PackageFile: GenomeInfoDb_1.40.1.tar.gz PackageFileSize: 3.417 MiB