Package: GenomeInfoDb Version: 1.40.1 Command: /Library/Frameworks/R.framework/Resources/bin/R CMD INSTALL GenomeInfoDb StartedAt: 2024-06-09 15:13:23 -0400 (Sun, 09 Jun 2024) EndedAt: 2024-06-09 15:13:39 -0400 (Sun, 09 Jun 2024) EllapsedTime: 16.0 seconds RetCode: 0 Status: OK