Package: GenomeInfoDb Version: 1.40.1 Command: /Library/Frameworks/R.framework/Resources/bin/R CMD check --install=check:GenomeInfoDb.install-out.txt --library=/Library/Frameworks/R.framework/Resources/library --no-vignettes --timings GenomeInfoDb_1.40.1.tar.gz StartedAt: 2024-10-17 22:45:24 -0400 (Thu, 17 Oct 2024) EndedAt: 2024-10-17 22:57:29 -0400 (Thu, 17 Oct 2024) EllapsedTime: 725.2 seconds RetCode: 0 Status: OK CheckDir: GenomeInfoDb.Rcheck Warnings: 0