Package: GenomeInfoDb Version: 1.40.1 Command: rm -rf GenomeInfoDb.buildbin-libdir && mkdir GenomeInfoDb.buildbin-libdir && /Users/biocbuild/BBS/utils/build-universal.sh GenomeInfoDb_1.40.1.tar.gz /Library/Frameworks/R.framework/Resources/bin/R GenomeInfoDb.buildbin-libdir StartedAt: 2024-10-18 18:39:48 -0400 (Fri, 18 Oct 2024) EndedAt: 2024-10-18 18:40:07 -0400 (Fri, 18 Oct 2024) EllapsedTime: 19.3 seconds RetCode: 0 Status: OK PackageFile: GenomeInfoDb_1.40.1.tgz PackageFileSize: 3.977 MiB