Package: GenomAutomorphism Version: 1.6.0 Command: chmod a+r GenomAutomorphism -R && E:\biocbuild\bbs-3.19-bioc\R\bin\R.exe CMD build --keep-empty-dirs --no-resave-data GenomAutomorphism StartedAt: 2024-10-16 19:22:30 -0400 (Wed, 16 Oct 2024) EndedAt: 2024-10-16 19:24:50 -0400 (Wed, 16 Oct 2024) EllapsedTime: 139.5 seconds RetCode: 0 Status: OK PackageFile: GenomAutomorphism_1.6.0.tar.gz PackageFileSize: 1.11 MiB