Package: GenomAutomorphism Version: 1.6.0 Command: rm -rf GenomAutomorphism.buildbin-libdir && mkdir GenomAutomorphism.buildbin-libdir && F:\biocbuild\bbs-3.19-bioc\R\bin\R.exe CMD INSTALL --build --library=GenomAutomorphism.buildbin-libdir GenomAutomorphism_1.6.0.tar.gz StartedAt: 2024-06-27 08:16:05 -0400 (Thu, 27 Jun 2024) EndedAt: 2024-06-27 08:16:55 -0400 (Thu, 27 Jun 2024) EllapsedTime: 50.1 seconds RetCode: 0 Status: OK PackageFile: GenomAutomorphism_1.6.0.zip PackageFileSize: 1.745 MiB