Package: GenomAutomorphism Version: 1.6.0 Command: /home/biocbuild/R/R-beta-2024-04-15_r86425/bin/R CMD INSTALL GenomAutomorphism StartedAt: 2024-05-08 21:07:24 -0000 (Wed, 08 May 2024) EndedAt: 2024-05-08 21:07:56 -0000 (Wed, 08 May 2024) EllapsedTime: 31.6 seconds RetCode: 0 Status: OK