Package: GenomAutomorphism Version: 1.6.0 Command: /home/biocbuild/R/R-beta-2024-04-15_r86425/bin/R CMD build --keep-empty-dirs --no-resave-data GenomAutomorphism StartedAt: 2024-05-09 00:29:42 -0000 (Thu, 09 May 2024) EndedAt: 2024-05-09 00:31:54 -0000 (Thu, 09 May 2024) EllapsedTime: 132.2 seconds RetCode: 0 Status: OK PackageFile: GenomAutomorphism_1.6.0.tar.gz PackageFileSize: 1.203 MiB