Package: GeneticsPed Version: 1.66.0 Command: E:\biocbuild\bbs-3.19-bioc\R\bin\R.exe CMD check --no-multiarch --install=check:GeneticsPed.install-out.txt --library=E:\biocbuild\bbs-3.19-bioc\R\library --no-vignettes --timings GeneticsPed_1.66.0.tar.gz StartedAt: 2024-10-17 01:45:58 -0400 (Thu, 17 Oct 2024) EndedAt: 2024-10-17 01:46:47 -0400 (Thu, 17 Oct 2024) EllapsedTime: 49.2 seconds RetCode: 0 Status: WARNINGS CheckDir: GeneticsPed.Rcheck Warnings: 1