Package: GeneticsPed Version: 1.66.0 Command: F:\biocbuild\bbs-3.19-bioc\R\bin\R.exe CMD check --no-multiarch --install=check:GeneticsPed.install-out.txt --library=F:\biocbuild\bbs-3.19-bioc\R\library --no-vignettes --timings GeneticsPed_1.66.0.tar.gz StartedAt: 2024-06-27 01:57:57 -0400 (Thu, 27 Jun 2024) EndedAt: 2024-06-27 01:58:55 -0400 (Thu, 27 Jun 2024) EllapsedTime: 57.8 seconds RetCode: 0 Status: WARNINGS CheckDir: GeneticsPed.Rcheck Warnings: 1