Package: GeneticsPed Version: 1.66.0 Command: /Library/Frameworks/R.framework/Resources/bin/R CMD check --install=check:GeneticsPed.install-out.txt --library=/Library/Frameworks/R.framework/Resources/library --no-vignettes --timings GeneticsPed_1.66.0.tar.gz StartedAt: 2024-06-09 20:33:14 -0400 (Sun, 09 Jun 2024) EndedAt: 2024-06-09 20:33:55 -0400 (Sun, 09 Jun 2024) EllapsedTime: 41.2 seconds RetCode: 0 Status: WARNINGS CheckDir: GeneticsPed.Rcheck Warnings: 1