Package: GeneticsPed Version: 1.66.0 Command: rm -rf GeneticsPed.buildbin-libdir && mkdir GeneticsPed.buildbin-libdir && /Users/biocbuild/BBS/utils/build-universal.sh GeneticsPed_1.66.0.tar.gz /Library/Frameworks/R.framework/Resources/bin/R GeneticsPed.buildbin-libdir StartedAt: 2024-06-10 00:19:38 -0400 (Mon, 10 Jun 2024) EndedAt: 2024-06-10 00:19:59 -0400 (Mon, 10 Jun 2024) EllapsedTime: 21.7 seconds RetCode: 0 Status: OK PackageFile: GeneticsPed_1.66.0.tgz PackageFileSize: 823.5 KiB