Package: GeneticsPed Version: 1.66.0 Command: /home/biocbuild/R/R-beta-2024-04-15_r86425/bin/R CMD check --install=check:GeneticsPed.install-out.txt --library=/home/biocbuild/R/R-beta-2024-04-15_r86425/site-library --no-vignettes --timings GeneticsPed_1.66.0.tar.gz StartedAt: 2024-05-09 07:41:50 -0000 (Thu, 09 May 2024) EndedAt: 2024-05-09 07:42:18 -0000 (Thu, 09 May 2024) EllapsedTime: 27.1 seconds RetCode: 0 Status: WARNINGS CheckDir: GeneticsPed.Rcheck Warnings: 1