Package: GeneticsPed Version: 1.66.0 Command: /Library/Frameworks/R.framework/Resources/bin/R CMD check --install=check:GeneticsPed.install-out.txt --library=/Library/Frameworks/R.framework/Resources/library --no-vignettes --timings GeneticsPed_1.66.0.tar.gz StartedAt: 2024-10-17 22:38:31 -0400 (Thu, 17 Oct 2024) EndedAt: 2024-10-17 22:39:10 -0400 (Thu, 17 Oct 2024) EllapsedTime: 39.1 seconds RetCode: 0 Status: WARNINGS CheckDir: GeneticsPed.Rcheck Warnings: 1