Package: GeneticsPed Version: 1.66.0 Command: rm -rf GeneticsPed.buildbin-libdir && mkdir GeneticsPed.buildbin-libdir && /Users/biocbuild/BBS/utils/build-universal.sh GeneticsPed_1.66.0.tar.gz /Library/Frameworks/R.framework/Resources/bin/R GeneticsPed.buildbin-libdir StartedAt: 2024-10-18 18:38:49 -0400 (Fri, 18 Oct 2024) EndedAt: 2024-10-18 18:39:12 -0400 (Fri, 18 Oct 2024) EllapsedTime: 22.6 seconds RetCode: 0 Status: OK PackageFile: GeneticsPed_1.66.0.tgz PackageFileSize: 821.5 KiB