Package: GeneticsPed Version: 1.66.0 Maintainer: David Henderson MaintainerEmail: DNADavenator at GMail.Com git_url: https://git.bioconductor.org/packages/GeneticsPed git_branch: RELEASE_3_19 git_last_commit: 59c71e1 git_last_commit_date: 2024-04-30 10:16:44 -0400 (Tue, 30 Apr 2024)