############################################################################## ############################################################################## ### ### Running command: ### ### E:\biocbuild\bbs-3.19-bioc\R\bin\R.exe CMD check --no-multiarch --install=check:GeneTonic.install-out.txt --library=E:\biocbuild\bbs-3.19-bioc\R\library --no-vignettes --timings GeneTonic_2.8.0.tar.gz ### ############################################################################## ############################################################################## * using log directory 'E:/biocbuild/bbs-3.19-bioc/meat/GeneTonic.Rcheck' * using R version 4.4.1 (2024-06-14 ucrt) * using platform: x86_64-w64-mingw32 * R was compiled by gcc.exe (GCC) 13.2.0 GNU Fortran (GCC) 13.2.0 * running under: Windows Server 2022 x64 (build 20348) * using session charset: UTF-8 * using option '--no-vignettes' * checking for file 'GeneTonic/DESCRIPTION' ... OK * this is package 'GeneTonic' version '2.8.0' * package encoding: UTF-8 * checking package namespace information ... OK * checking package dependencies ... OK * checking if this is a source package ... OK * checking if there is a namespace ... OK * checking for hidden files and directories ... OK * checking for portable file names ... OK * checking whether package 'GeneTonic' can be installed ... OK * checking installed package size ... OK * checking package directory ... OK * checking 'build' directory ... OK * checking DESCRIPTION meta-information ... OK * checking top-level files ... OK * checking for left-over files ... OK * checking index information ... OK * checking package subdirectories ... OK * checking code files for non-ASCII characters ... OK * checking R files for syntax errors ... OK * checking whether the package can be loaded ... OK * checking whether the package can be loaded with stated dependencies ... OK * checking whether the package can be unloaded cleanly ... OK * checking whether the namespace can be loaded with stated dependencies ... OK * checking whether the namespace can be unloaded cleanly ... OK * checking whether startup messages can be suppressed ... OK * checking dependencies in R code ... OK * checking S3 generic/method consistency ... OK * checking replacement functions ... OK * checking foreign function calls ... OK * checking R code for possible problems ... OK * checking Rd files ... OK * checking Rd metadata ... OK * checking Rd cross-references ... OK * checking for missing documentation entries ... OK * checking for code/documentation mismatches ... OK * checking Rd \usage sections ... OK * checking Rd contents ... OK * checking for unstated dependencies in examples ... OK * checking contents of 'data' directory ... OK * checking data for non-ASCII characters ... OK * checking data for ASCII and uncompressed saves ... OK * checking files in 'vignettes' ... OK * checking examples ... OK Examples with CPU (user + system) or elapsed time > 5s user system elapsed gs_mds 7.90 0.73 8.64 summarize_ggs_hubgenes 7.89 0.40 8.30 gs_heatmap 7.23 0.86 7.30 gs_upset 7.19 0.31 7.50 ggs_backbone 6.66 0.54 7.99 ggs_graph 6.83 0.26 7.09 GeneTonic 6.53 0.37 7.34 gs_scores 6.47 0.30 6.76 signature_volcano 5.82 0.38 6.18 distill_enrichment 5.71 0.34 6.06 gs_dendro 5.58 0.39 5.97 gs_scoresheat 5.46 0.39 5.86 gs_horizon 5.58 0.25 5.83 enhance_table 4.85 0.49 5.38 gs_volcano 5.01 0.27 5.29 gs_summary_overview_pair 4.92 0.32 5.23 gs_radar 4.88 0.30 5.18 export_for_iSEE 4.89 0.28 5.17 GeneTonicList 4.80 0.21 5.00 gs_alluvial 3.72 0.42 5.88 * checking for unstated dependencies in 'tests' ... OK * checking tests ... Running 'testthat.R' OK * checking for unstated dependencies in vignettes ... OK * checking package vignettes ... OK * checking running R code from vignettes ... SKIPPED * checking re-building of vignette outputs ... SKIPPED * checking PDF version of manual ... OK * DONE Status: OK