Package: GeneTonic Version: 2.8.0 Command: F:\biocbuild\bbs-3.19-bioc\R\bin\R.exe CMD INSTALL GeneTonic StartedAt: 2024-06-26 16:26:15 -0400 (Wed, 26 Jun 2024) EndedAt: 2024-06-26 16:27:10 -0400 (Wed, 26 Jun 2024) EllapsedTime: 54.6 seconds RetCode: 0 Status: OK