Package: GeneTonic Version: 2.8.0 Command: /home/biocbuild/bbs-3.19-bioc/R/bin/R CMD INSTALL GeneTonic StartedAt: 2024-10-16 16:24:53 -0400 (Wed, 16 Oct 2024) EndedAt: 2024-10-16 16:25:28 -0400 (Wed, 16 Oct 2024) EllapsedTime: 34.9 seconds RetCode: 0 Status: OK