Package: GeneTonic Version: 2.8.0 Command: /Library/Frameworks/R.framework/Resources/bin/R CMD build --keep-empty-dirs --no-resave-data GeneTonic StartedAt: 2024-06-09 16:45:21 -0400 (Sun, 09 Jun 2024) EndedAt: 2024-06-09 16:47:02 -0400 (Sun, 09 Jun 2024) EllapsedTime: 100.1 seconds RetCode: 0 Status: OK PackageFile: GeneTonic_2.8.0.tar.gz PackageFileSize: 9.762 MiB