Package: GeneTonic Version: 2.8.0 Command: /Library/Frameworks/R.framework/Resources/bin/R CMD INSTALL GeneTonic StartedAt: 2024-10-16 17:38:54 -0400 (Wed, 16 Oct 2024) EndedAt: 2024-10-16 17:39:37 -0400 (Wed, 16 Oct 2024) EllapsedTime: 43.0 seconds RetCode: 0 Status: OK