Package: GeneTonic Version: 2.8.0 Command: /Library/Frameworks/R.framework/Resources/bin/R CMD check --install=check:GeneTonic.install-out.txt --library=/Library/Frameworks/R.framework/Resources/library --no-vignettes --timings GeneTonic_2.8.0.tar.gz StartedAt: 2024-10-17 22:38:36 -0400 (Thu, 17 Oct 2024) EndedAt: 2024-10-17 22:49:57 -0400 (Thu, 17 Oct 2024) EllapsedTime: 680.5 seconds RetCode: 0 Status: OK CheckDir: GeneTonic.Rcheck Warnings: 0