Package: GeneTonic Version: 2.8.0 Command: rm -rf GeneTonic.buildbin-libdir && mkdir GeneTonic.buildbin-libdir && /Users/biocbuild/BBS/utils/build-universal.sh GeneTonic_2.8.0.tar.gz /Library/Frameworks/R.framework/Resources/bin/R GeneTonic.buildbin-libdir StartedAt: 2024-10-18 18:38:52 -0400 (Fri, 18 Oct 2024) EndedAt: 2024-10-18 18:39:48 -0400 (Fri, 18 Oct 2024) EllapsedTime: 55.6 seconds RetCode: 0 Status: OK PackageFile: GeneTonic_2.8.0.tgz PackageFileSize: 9.878 MiB