Package: GeneStructureTools Version: 1.24.0 Command: /Library/Frameworks/R.framework/Resources/bin/R CMD check --install=check:GeneStructureTools.install-out.txt --library=/Library/Frameworks/R.framework/Resources/library --no-vignettes --timings GeneStructureTools_1.24.0.tar.gz StartedAt: 2024-10-17 05:46:57 -0400 (Thu, 17 Oct 2024) EndedAt: 2024-10-17 06:02:28 -0400 (Thu, 17 Oct 2024) EllapsedTime: 930.9 seconds RetCode: 0 Status: OK CheckDir: GeneStructureTools.Rcheck Warnings: 0