Package: GeneSelectMMD Version: 2.48.0 Command: E:\biocbuild\bbs-3.19-bioc\R\bin\R.exe CMD INSTALL GeneSelectMMD StartedAt: 2024-10-16 16:05:59 -0400 (Wed, 16 Oct 2024) EndedAt: 2024-10-16 16:06:22 -0400 (Wed, 16 Oct 2024) EllapsedTime: 23.1 seconds RetCode: 0 Status: OK