Package: GeneSelectMMD Version: 2.48.0 Command: chmod a+r GeneSelectMMD -R && E:\biocbuild\bbs-3.19-bioc\R\bin\R.exe CMD build --keep-empty-dirs --no-resave-data GeneSelectMMD StartedAt: 2024-10-16 19:21:46 -0400 (Wed, 16 Oct 2024) EndedAt: 2024-10-16 19:22:12 -0400 (Wed, 16 Oct 2024) EllapsedTime: 25.7 seconds RetCode: 0 Status: OK PackageFile: GeneSelectMMD_2.48.0.tar.gz PackageFileSize: 312.4 KiB