Package: GeneSelectMMD Version: 2.48.0 Command: F:\biocbuild\bbs-3.19-bioc\R\bin\R.exe CMD INSTALL GeneSelectMMD StartedAt: 2024-06-26 15:45:19 -0400 (Wed, 26 Jun 2024) EndedAt: 2024-06-26 15:45:48 -0400 (Wed, 26 Jun 2024) EllapsedTime: 28.4 seconds RetCode: 0 Status: OK