Package: GeneSelectMMD Version: 2.48.0 Command: rm -rf GeneSelectMMD.buildbin-libdir && mkdir GeneSelectMMD.buildbin-libdir && F:\biocbuild\bbs-3.19-bioc\R\bin\R.exe CMD INSTALL --build --library=GeneSelectMMD.buildbin-libdir GeneSelectMMD_2.48.0.tar.gz StartedAt: 2024-06-27 08:15:46 -0400 (Thu, 27 Jun 2024) EndedAt: 2024-06-27 08:16:00 -0400 (Thu, 27 Jun 2024) EllapsedTime: 13.8 seconds RetCode: 0 Status: OK PackageFile: GeneSelectMMD_2.48.0.zip PackageFileSize: 577.2 KiB