Package: GeneSelectMMD Version: 2.48.0 Command: /Library/Frameworks/R.framework/Resources/bin/R CMD build --keep-empty-dirs --no-resave-data GeneSelectMMD StartedAt: 2024-10-16 19:28:14 -0400 (Wed, 16 Oct 2024) EndedAt: 2024-10-16 19:28:53 -0400 (Wed, 16 Oct 2024) EllapsedTime: 39.4 seconds RetCode: 0 Status: OK PackageFile: GeneSelectMMD_2.48.0.tar.gz PackageFileSize: 455 KiB