Package: GeneSelectMMD Version: 2.48.0 Command: /Library/Frameworks/R.framework/Resources/bin/R CMD check --install=check:GeneSelectMMD.install-out.txt --library=/Library/Frameworks/R.framework/Resources/library --no-vignettes --timings GeneSelectMMD_2.48.0.tar.gz StartedAt: 2024-06-09 20:32:59 -0400 (Sun, 09 Jun 2024) EndedAt: 2024-06-09 20:33:44 -0400 (Sun, 09 Jun 2024) EllapsedTime: 45.0 seconds RetCode: 0 Status: WARNINGS CheckDir: GeneSelectMMD.Rcheck Warnings: 1