Package: GeneSelectMMD Version: 2.48.0 Command: rm -rf GeneSelectMMD.buildbin-libdir && mkdir GeneSelectMMD.buildbin-libdir && /Users/biocbuild/BBS/utils/build-universal.sh GeneSelectMMD_2.48.0.tar.gz /Library/Frameworks/R.framework/Resources/bin/R GeneSelectMMD.buildbin-libdir StartedAt: 2024-06-10 00:19:34 -0400 (Mon, 10 Jun 2024) EndedAt: 2024-06-10 00:19:50 -0400 (Mon, 10 Jun 2024) EllapsedTime: 15.9 seconds RetCode: 0 Status: OK PackageFile: GeneSelectMMD_2.48.0.tgz PackageFileSize: 548.1 KiB