Package: GeneSelectMMD Version: 2.48.0 Command: /Library/Frameworks/R.framework/Resources/bin/R CMD check --install=check:GeneSelectMMD.install-out.txt --library=/Library/Frameworks/R.framework/Resources/library --no-vignettes --timings GeneSelectMMD_2.48.0.tar.gz StartedAt: 2024-06-10 16:37:04 -0400 (Mon, 10 Jun 2024) EndedAt: 2024-06-10 16:38:14 -0400 (Mon, 10 Jun 2024) EllapsedTime: 69.7 seconds RetCode: 0 Status: WARNINGS CheckDir: GeneSelectMMD.Rcheck Warnings: 1