Package: GeneSelectMMD Version: 2.48.0 Command: /Library/Frameworks/R.framework/Resources/bin/R CMD check --install=check:GeneSelectMMD.install-out.txt --library=/Library/Frameworks/R.framework/Resources/library --no-vignettes --timings GeneSelectMMD_2.48.0.tar.gz StartedAt: 2024-10-17 22:37:12 -0400 (Thu, 17 Oct 2024) EndedAt: 2024-10-17 22:37:55 -0400 (Thu, 17 Oct 2024) EllapsedTime: 43.0 seconds RetCode: 0 Status: WARNINGS CheckDir: GeneSelectMMD.Rcheck Warnings: 1