Package: GeneSelectMMD Version: 2.48.0 Maintainer: Weiliang Qiu MaintainerEmail: weiliang.qiu at gmail.com git_url: https://git.bioconductor.org/packages/GeneSelectMMD git_branch: RELEASE_3_19 git_last_commit: 6cbee84 git_last_commit_date: 2024-04-30 10:19:40 -0400 (Tue, 30 Apr 2024)