Package: GeneRegionScan Version: 1.60.0 Command: chmod a+r GeneRegionScan -R && E:\biocbuild\bbs-3.19-bioc\R\bin\R.exe CMD build --keep-empty-dirs --no-resave-data GeneRegionScan StartedAt: 2024-10-16 19:21:34 -0400 (Wed, 16 Oct 2024) EndedAt: 2024-10-16 19:22:27 -0400 (Wed, 16 Oct 2024) EllapsedTime: 53.4 seconds RetCode: 0 Status: OK PackageFile: GeneRegionScan_1.60.0.tar.gz PackageFileSize: 7.391 MiB