Package: GeneRegionScan Version: 1.60.0 Command: /Library/Frameworks/R.framework/Resources/bin/R CMD INSTALL GeneRegionScan StartedAt: 2024-10-16 15:20:54 -0400 (Wed, 16 Oct 2024) EndedAt: 2024-10-16 15:21:29 -0400 (Wed, 16 Oct 2024) EllapsedTime: 34.5 seconds RetCode: 0 Status: OK