Package: GeneRegionScan Version: 1.60.0 Command: /Library/Frameworks/R.framework/Resources/bin/R CMD check --install=check:GeneRegionScan.install-out.txt --library=/Library/Frameworks/R.framework/Resources/library --no-vignettes --timings GeneRegionScan_1.60.0.tar.gz StartedAt: 2024-10-17 05:46:10 -0400 (Thu, 17 Oct 2024) EndedAt: 2024-10-17 05:52:12 -0400 (Thu, 17 Oct 2024) EllapsedTime: 361.5 seconds RetCode: 0 Status: OK CheckDir: GeneRegionScan.Rcheck Warnings: 0