Package: GeneRegionScan Version: 1.60.0 Command: /Library/Frameworks/R.framework/Resources/bin/R CMD build --keep-empty-dirs --no-resave-data GeneRegionScan StartedAt: 2024-10-16 19:28:01 -0400 (Wed, 16 Oct 2024) EndedAt: 2024-10-16 19:29:29 -0400 (Wed, 16 Oct 2024) EllapsedTime: 88.6 seconds RetCode: 0 Status: OK PackageFile: GeneRegionScan_1.60.0.tar.gz PackageFileSize: 7.482 MiB