Package: GeneRegionScan Version: 1.60.0 Command: rm -rf GeneRegionScan.buildbin-libdir && mkdir GeneRegionScan.buildbin-libdir && /Users/biocbuild/BBS/utils/build-universal.sh GeneRegionScan_1.60.0.tar.gz /Library/Frameworks/R.framework/Resources/bin/R GeneRegionScan.buildbin-libdir StartedAt: 2024-10-17 16:13:36 -0400 (Thu, 17 Oct 2024) EndedAt: 2024-10-17 16:14:19 -0400 (Thu, 17 Oct 2024) EllapsedTime: 43.3 seconds RetCode: 0 Status: OK PackageFile: GeneRegionScan_1.60.0.tgz PackageFileSize: 7.681 MiB