Package: GeneRegionScan Version: 1.60.0 Command: /home/biocbuild/R/R-beta-2024-04-15_r86425/bin/R CMD build --keep-empty-dirs --no-resave-data GeneRegionScan StartedAt: 2024-05-09 00:28:29 -0000 (Thu, 09 May 2024) EndedAt: 2024-05-09 00:29:15 -0000 (Thu, 09 May 2024) EllapsedTime: 46.1 seconds RetCode: 0 Status: OK PackageFile: GeneRegionScan_1.60.0.tar.gz PackageFileSize: 7.475 MiB