Package: GeneRegionScan Version: 1.60.0 Command: /Library/Frameworks/R.framework/Resources/bin/R CMD build --keep-empty-dirs --no-resave-data GeneRegionScan StartedAt: 2024-10-17 01:01:41 -0400 (Thu, 17 Oct 2024) EndedAt: 2024-10-17 01:02:33 -0400 (Thu, 17 Oct 2024) EllapsedTime: 52.3 seconds RetCode: 0 Status: OK PackageFile: GeneRegionScan_1.60.0.tar.gz PackageFileSize: 7.482 MiB