Package: GeneRegionScan Version: 1.60.0 Command: rm -rf GeneRegionScan.buildbin-libdir && mkdir GeneRegionScan.buildbin-libdir && /Users/biocbuild/BBS/utils/build-universal.sh GeneRegionScan_1.60.0.tar.gz /Library/Frameworks/R.framework/Resources/bin/R GeneRegionScan.buildbin-libdir StartedAt: 2024-10-18 18:38:29 -0400 (Fri, 18 Oct 2024) EndedAt: 2024-10-18 18:38:52 -0400 (Fri, 18 Oct 2024) EllapsedTime: 23.8 seconds RetCode: 0 Status: OK PackageFile: GeneRegionScan_1.60.0.tgz PackageFileSize: 7.681 MiB