Package: GeneOverlap Version: 1.40.0 Command: /home/biocbuild/R/R-beta-2024-04-15_r86425/bin/R CMD build --keep-empty-dirs --no-resave-data GeneOverlap StartedAt: 2024-05-09 00:28:04 -0000 (Thu, 09 May 2024) EndedAt: 2024-05-09 00:28:12 -0000 (Thu, 09 May 2024) EllapsedTime: 8.0 seconds RetCode: 0 Status: OK PackageFile: GeneOverlap_1.40.0.tar.gz PackageFileSize: 351.3 KiB