Package: GeneOverlap Version: 1.40.0 Command: /Library/Frameworks/R.framework/Resources/bin/R CMD INSTALL GeneOverlap StartedAt: 2024-10-16 15:39:51 -0400 (Wed, 16 Oct 2024) EndedAt: 2024-10-16 15:39:55 -0400 (Wed, 16 Oct 2024) EllapsedTime: 3.7 seconds RetCode: 0 Status: OK