Package: GeneNetworkBuilder Version: 1.46.0 Command: E:\biocbuild\bbs-3.19-bioc\R\bin\R.exe CMD INSTALL GeneNetworkBuilder StartedAt: 2024-10-16 16:38:54 -0400 (Wed, 16 Oct 2024) EndedAt: 2024-10-16 16:40:05 -0400 (Wed, 16 Oct 2024) EllapsedTime: 71.4 seconds RetCode: 0 Status: OK