Package: GeneNetworkBuilder Version: 1.46.0 Command: F:\biocbuild\bbs-3.19-bioc\R\bin\R.exe CMD INSTALL GeneNetworkBuilder StartedAt: 2024-06-26 16:15:41 -0400 (Wed, 26 Jun 2024) EndedAt: 2024-06-26 16:16:17 -0400 (Wed, 26 Jun 2024) EllapsedTime: 35.7 seconds RetCode: 0 Status: OK