Package: GeneNetworkBuilder Version: 1.46.0 Command: chmod a+r GeneNetworkBuilder -R && F:\biocbuild\bbs-3.19-bioc\R\bin\R.exe CMD build --keep-empty-dirs --no-resave-data GeneNetworkBuilder StartedAt: 2024-06-26 19:05:36 -0400 (Wed, 26 Jun 2024) EndedAt: 2024-06-26 19:13:39 -0400 (Wed, 26 Jun 2024) EllapsedTime: 483.9 seconds RetCode: 0 Status: OK PackageFile: GeneNetworkBuilder_1.46.0.tar.gz PackageFileSize: 8.514 MiB