Package: GeneNetworkBuilder Version: 1.46.0 Command: rm -rf GeneNetworkBuilder.buildbin-libdir && mkdir GeneNetworkBuilder.buildbin-libdir && F:\biocbuild\bbs-3.19-bioc\R\bin\R.exe CMD INSTALL --build --library=GeneNetworkBuilder.buildbin-libdir GeneNetworkBuilder_1.46.0.tar.gz StartedAt: 2024-06-27 08:15:33 -0400 (Thu, 27 Jun 2024) EndedAt: 2024-06-27 08:16:13 -0400 (Thu, 27 Jun 2024) EllapsedTime: 40.4 seconds RetCode: 0 Status: OK PackageFile: GeneNetworkBuilder_1.46.0.zip PackageFileSize: 8.707 MiB