Package: GeneNetworkBuilder Version: 1.46.0 Command: /home/biocbuild/bbs-3.19-bioc/R/bin/R CMD INSTALL GeneNetworkBuilder StartedAt: 2024-10-16 16:17:34 -0400 (Wed, 16 Oct 2024) EndedAt: 2024-10-16 16:17:49 -0400 (Wed, 16 Oct 2024) EllapsedTime: 15.2 seconds RetCode: 0 Status: OK